BEGIN:VCALENDAR
VERSION:2.0
PRODID:-//Commune d&#039;Argoules - ECPv6.15.20//NONSGML v1.0//EN
CALSCALE:GREGORIAN
METHOD:PUBLISH
X-WR-CALNAME:Commune d&#039;Argoules
X-ORIGINAL-URL:https://www.argoules.fr
X-WR-CALDESC:Évènements pour Commune d&#039;Argoules
REFRESH-INTERVAL;VALUE=DURATION:PT1H
X-Robots-Tag:noindex
X-PUBLISHED-TTL:PT1H
BEGIN:VTIMEZONE
TZID:Europe/Paris
BEGIN:DAYLIGHT
TZOFFSETFROM:+0100
TZOFFSETTO:+0200
TZNAME:CEST
DTSTART:20250330T010000
END:DAYLIGHT
BEGIN:STANDARD
TZOFFSETFROM:+0200
TZOFFSETTO:+0100
TZNAME:CET
DTSTART:20251026T010000
END:STANDARD
BEGIN:DAYLIGHT
TZOFFSETFROM:+0100
TZOFFSETTO:+0200
TZNAME:CEST
DTSTART:20260329T010000
END:DAYLIGHT
BEGIN:STANDARD
TZOFFSETFROM:+0200
TZOFFSETTO:+0100
TZNAME:CET
DTSTART:20261025T010000
END:STANDARD
BEGIN:DAYLIGHT
TZOFFSETFROM:+0100
TZOFFSETTO:+0200
TZNAME:CEST
DTSTART:20270328T010000
END:DAYLIGHT
BEGIN:STANDARD
TZOFFSETFROM:+0200
TZOFFSETTO:+0100
TZNAME:CET
DTSTART:20271031T010000
END:STANDARD
END:VTIMEZONE
BEGIN:VEVENT
DTSTART;TZID=Europe/Paris:20260308T090000
DTEND;TZID=Europe/Paris:20260308T120000
DTSTAMP:20260424T211342
CREATED:20260130T092533Z
LAST-MODIFIED:20260130T092533Z
UID:10215-1772960400-1772971200@www.argoules.fr
SUMMARY:Hauts de France propres
DESCRIPTION:Le dimanche 8 mars\, la société de chasse associée à l’association alteia organise le ramassage des déchets dans la commune . \nCe ramassage est ouvert à tous. \nDu matériel peut être distribué mais par précaution\, munissez vous de gants épais \n 
URL:https://www.argoules.fr/event/hauts-de-france-propres/
LOCATION:parking de la Mairie\, rue verte\, Argoules
END:VEVENT
END:VCALENDAR