BEGIN:VCALENDAR
VERSION:2.0
PRODID:-//Commune d&#039;Argoules - ECPv6.15.20//NONSGML v1.0//EN
CALSCALE:GREGORIAN
METHOD:PUBLISH
X-WR-CALNAME:Commune d&#039;Argoules
X-ORIGINAL-URL:https://www.argoules.fr
X-WR-CALDESC:Évènements pour Commune d&#039;Argoules
REFRESH-INTERVAL;VALUE=DURATION:PT1H
X-Robots-Tag:noindex
X-PUBLISHED-TTL:PT1H
BEGIN:VTIMEZONE
TZID:Europe/Paris
BEGIN:DAYLIGHT
TZOFFSETFROM:+0100
TZOFFSETTO:+0200
TZNAME:CEST
DTSTART:20250330T010000
END:DAYLIGHT
BEGIN:STANDARD
TZOFFSETFROM:+0200
TZOFFSETTO:+0100
TZNAME:CET
DTSTART:20251026T010000
END:STANDARD
BEGIN:DAYLIGHT
TZOFFSETFROM:+0100
TZOFFSETTO:+0200
TZNAME:CEST
DTSTART:20260329T010000
END:DAYLIGHT
BEGIN:STANDARD
TZOFFSETFROM:+0200
TZOFFSETTO:+0100
TZNAME:CET
DTSTART:20261025T010000
END:STANDARD
BEGIN:DAYLIGHT
TZOFFSETFROM:+0100
TZOFFSETTO:+0200
TZNAME:CEST
DTSTART:20270328T010000
END:DAYLIGHT
BEGIN:STANDARD
TZOFFSETFROM:+0200
TZOFFSETTO:+0100
TZNAME:CET
DTSTART:20271031T010000
END:STANDARD
END:VTIMEZONE
BEGIN:VEVENT
DTSTART;TZID=Europe/Paris:20260830T100000
DTEND;TZID=Europe/Paris:20260830T180000
DTSTAMP:20260424T183512
CREATED:20250526T130617Z
LAST-MODIFIED:20260216T111021Z
UID:2398-1788084000-1788112800@www.argoules.fr
SUMMARY:kermesse d'alteia
DESCRIPTION:  \n 
URL:https://www.argoules.fr/event/kermesse-dalteia/
LOCATION:à définir
END:VEVENT
END:VCALENDAR