BEGIN:VCALENDAR
VERSION:2.0
PRODID:-//Commune d&#039;Argoules - ECPv6.15.20//NONSGML v1.0//EN
CALSCALE:GREGORIAN
METHOD:PUBLISH
X-ORIGINAL-URL:https://www.argoules.fr
X-WR-CALDESC:Évènements pour Commune d&#039;Argoules
REFRESH-INTERVAL;VALUE=DURATION:PT1H
X-Robots-Tag:noindex
X-PUBLISHED-TTL:PT1H
BEGIN:VTIMEZONE
TZID:Europe/Paris
BEGIN:DAYLIGHT
TZOFFSETFROM:+0100
TZOFFSETTO:+0200
TZNAME:CEST
DTSTART:20240331T010000
END:DAYLIGHT
BEGIN:STANDARD
TZOFFSETFROM:+0200
TZOFFSETTO:+0100
TZNAME:CET
DTSTART:20241027T010000
END:STANDARD
BEGIN:DAYLIGHT
TZOFFSETFROM:+0100
TZOFFSETTO:+0200
TZNAME:CEST
DTSTART:20250330T010000
END:DAYLIGHT
BEGIN:STANDARD
TZOFFSETFROM:+0200
TZOFFSETTO:+0100
TZNAME:CET
DTSTART:20251026T010000
END:STANDARD
BEGIN:DAYLIGHT
TZOFFSETFROM:+0100
TZOFFSETTO:+0200
TZNAME:CEST
DTSTART:20260329T010000
END:DAYLIGHT
BEGIN:STANDARD
TZOFFSETFROM:+0200
TZOFFSETTO:+0100
TZNAME:CET
DTSTART:20261025T010000
END:STANDARD
BEGIN:DAYLIGHT
TZOFFSETFROM:+0100
TZOFFSETTO:+0200
TZNAME:CEST
DTSTART:20270328T010000
END:DAYLIGHT
BEGIN:STANDARD
TZOFFSETFROM:+0200
TZOFFSETTO:+0100
TZNAME:CET
DTSTART:20271031T010000
END:STANDARD
END:VTIMEZONE
BEGIN:VEVENT
DTSTART;TZID=Europe/Paris:20260406T160000
DTEND;TZID=Europe/Paris:20260406T173000
DTSTAMP:20260424T170405
CREATED:20260312T131529Z
LAST-MODIFIED:20260312T131529Z
UID:10264-1775491200-1775496600@www.argoules.fr
SUMMARY:Chasse aux œufs
DESCRIPTION:La conserverie St Christophe organise le lundi 6 avril une chasse aux œufs de Pâques. \nLes places sont limitées\, réservez vite
URL:https://www.argoules.fr/event/chasse-aux-oeufs/
LOCATION:Conserverie St Christophe\, Argoules\, 80120
END:VEVENT
BEGIN:VEVENT
DTSTART;TZID=Europe/Paris:20260329T100000
DTEND;TZID=Europe/Paris:20260329T120000
DTSTAMP:20260424T170405
CREATED:20260316T144504Z
LAST-MODIFIED:20260316T144954Z
UID:10277-1774778400-1774785600@www.argoules.fr
SUMMARY:Assemblée générale d'ALTEIA
DESCRIPTION:Nous avons le plaisir de vous informer que notre prochaine assemblée générale ordinaire aura lieu le dimanche 29 mars à 10 heures à la salle des fêtes d’Argoules \, 4 rue de la Houssoye à Petit-Chemin \nLes membres du bureau \n 
URL:https://www.argoules.fr/event/assemblee-generale-dalteia/
LOCATION:salle des fêtes
END:VEVENT
BEGIN:VEVENT
DTSTART;TZID=Europe/Paris:20260308T090000
DTEND;TZID=Europe/Paris:20260308T120000
DTSTAMP:20260424T170405
CREATED:20260130T092533Z
LAST-MODIFIED:20260130T092533Z
UID:10215-1772960400-1772971200@www.argoules.fr
SUMMARY:Hauts de France propres
DESCRIPTION:Le dimanche 8 mars\, la société de chasse associée à l’association alteia organise le ramassage des déchets dans la commune . \nCe ramassage est ouvert à tous. \nDu matériel peut être distribué mais par précaution\, munissez vous de gants épais \n 
URL:https://www.argoules.fr/event/hauts-de-france-propres/
LOCATION:parking de la Mairie\, rue verte\, Argoules
END:VEVENT
BEGIN:VEVENT
DTSTART;VALUE=DATE:20260214
DTEND;VALUE=DATE:20260215
DTSTAMP:20260424T170405
CREATED:20251219T115842Z
LAST-MODIFIED:20251219T120134Z
UID:6785-1771027200-1771113599@www.argoules.fr
SUMMARY:Rallye du Marquenterre
DESCRIPTION:
URL:https://www.argoules.fr/event/rallye-du-marquenterre/
END:VEVENT
BEGIN:VEVENT
DTSTART;TZID=Europe/Paris:20260110T110000
DTEND;TZID=Europe/Paris:20260110T170000
DTSTAMP:20260424T170405
CREATED:20251111T090711Z
LAST-MODIFIED:20251111T090711Z
UID:2536-1768042800-1768064400@www.argoules.fr
SUMMARY:Vœux du maire
DESCRIPTION:
URL:https://www.argoules.fr/event/voeux-du-maire/
LOCATION:salle des fêtes
END:VEVENT
BEGIN:VEVENT
DTSTART;TZID=Europe/Paris:20251216T180000
DTEND;TZID=Europe/Paris:20251216T200000
DTSTAMP:20260424T170405
CREATED:20251003T130735Z
LAST-MODIFIED:20251215T094150Z
UID:2499-1765908000-1765915200@www.argoules.fr
SUMMARY:Réunion de conseil
DESCRIPTION:
URL:https://www.argoules.fr/event/reunion-de-conseil/
LOCATION:Mairie\, rue verte\, Argoules
END:VEVENT
BEGIN:VEVENT
DTSTART;TZID=Europe/Paris:20251213T150000
DTEND;TZID=Europe/Paris:20251213T170000
DTSTAMP:20260424T170405
CREATED:20251111T090514Z
LAST-MODIFIED:20251111T090514Z
UID:2534-1765638000-1765645200@www.argoules.fr
SUMMARY:Noël des aînés et des enfants
DESCRIPTION:
URL:https://www.argoules.fr/event/noel-des-aines-et-des-enfants/
LOCATION:salle des fêtes
END:VEVENT
BEGIN:VEVENT
DTSTART;TZID=Europe/Paris:20250714T110000
DTEND;TZID=Europe/Paris:20250714T170000
DTSTAMP:20260424T170405
CREATED:20250518T124329Z
LAST-MODIFIED:20250518T124329Z
UID:2361-1752490800-1752512400@www.argoules.fr
SUMMARY:fête nationale
DESCRIPTION:
URL:https://www.argoules.fr/event/fete-nationale/
LOCATION:salle des fêtes
END:VEVENT
END:VCALENDAR