BEGIN:VCALENDAR
VERSION:2.0
PRODID:-//Commune d&#039;Argoules - ECPv6.15.20//NONSGML v1.0//EN
CALSCALE:GREGORIAN
METHOD:PUBLISH
X-ORIGINAL-URL:https://www.argoules.fr
X-WR-CALDESC:Évènements pour Commune d&#039;Argoules
REFRESH-INTERVAL;VALUE=DURATION:PT1H
X-Robots-Tag:noindex
X-PUBLISHED-TTL:PT1H
BEGIN:VTIMEZONE
TZID:Europe/Paris
BEGIN:DAYLIGHT
TZOFFSETFROM:+0100
TZOFFSETTO:+0200
TZNAME:CEST
DTSTART:20240331T010000
END:DAYLIGHT
BEGIN:STANDARD
TZOFFSETFROM:+0200
TZOFFSETTO:+0100
TZNAME:CET
DTSTART:20241027T010000
END:STANDARD
BEGIN:DAYLIGHT
TZOFFSETFROM:+0100
TZOFFSETTO:+0200
TZNAME:CEST
DTSTART:20250330T010000
END:DAYLIGHT
BEGIN:STANDARD
TZOFFSETFROM:+0200
TZOFFSETTO:+0100
TZNAME:CET
DTSTART:20251026T010000
END:STANDARD
BEGIN:DAYLIGHT
TZOFFSETFROM:+0100
TZOFFSETTO:+0200
TZNAME:CEST
DTSTART:20260329T010000
END:DAYLIGHT
BEGIN:STANDARD
TZOFFSETFROM:+0200
TZOFFSETTO:+0100
TZNAME:CET
DTSTART:20261025T010000
END:STANDARD
END:VTIMEZONE
BEGIN:VEVENT
DTSTART;TZID=Europe/Paris:20251213T150000
DTEND;TZID=Europe/Paris:20251213T170000
DTSTAMP:20260424T223535
CREATED:20251111T090514Z
LAST-MODIFIED:20251111T090514Z
UID:2534-1765638000-1765645200@www.argoules.fr
SUMMARY:Noël des aînés et des enfants
DESCRIPTION:
URL:https://www.argoules.fr/event/noel-des-aines-et-des-enfants/
LOCATION:salle des fêtes
END:VEVENT
BEGIN:VEVENT
DTSTART;TZID=Europe/Paris:20251216T180000
DTEND;TZID=Europe/Paris:20251216T200000
DTSTAMP:20260424T223535
CREATED:20251003T130735Z
LAST-MODIFIED:20251215T094150Z
UID:2499-1765908000-1765915200@www.argoules.fr
SUMMARY:Réunion de conseil
DESCRIPTION:
URL:https://www.argoules.fr/event/reunion-de-conseil/
LOCATION:Mairie\, rue verte\, Argoules
END:VEVENT
END:VCALENDAR